BEGIN:VCALENDAR
VERSION:2.0
PRODID:-//ddaysoftware.com//NONSGML DDay.iCal 1.0//EN
BEGIN:VEVENT
DESCRIPTION:Please mark your calendars for the IMET 2021 Annual Participant
 s' Meeting. The&nbsp\;annual meeting will be held on&nbsp\;Tuesday\, March
  23\, 2021&nbsp\;from 9:30 AM to 11:00 AM Central via&nbsp\;Zoom.
DTEND:20210323T110000
DTSTAMP:20260419T235641
DTSTART:20210323T093000
LOCATION:Virtual - Zoom
SEQUENCE:0
SUMMARY:IMET Annual Participants Meeting
UID:77803d66-617b-4616-9c6c-0c70784ce260
END:VEVENT
END:VCALENDAR
