BEGIN:VCALENDAR
VERSION:2.0
PRODID:-//ddaysoftware.com//NONSGML DDay.iCal 1.0//EN
BEGIN:VEVENT
DESCRIPTION:The IMET Board of Trustees is hosting the 27th annual IMET part
 icipants' meeting at the NIU Conference Center in Naperville\, IL. The mee
 ting will be held on Tuesday\, March 21\, 2023\, starting at 9:00 AM Centr
 al Time\, both in-person\, and live-stream for participants who may not be
  able to attend in-person. After several years or hosting virtual annual p
 articipants' meetings\, IMET is very pleased to host a combination in-pers
 on and virtual annual meeting and we look forward to being together with y
 ou (in-person and virtually).&nbsp\;\nParticipants can find a registration
  link here.
DTSTAMP:20260419T121550
DTSTART:20230321T090000
LOCATION:NIU Conference Center\, 1120 E. Diehl Rd. Naperville\, IL 60563\, 
 Naperville\, Illinois 60563
SEQUENCE:0
SUMMARY:IMET 27th Annual Participants Meeting 2023 - March 21st - Napervill
 e\, IL
UID:c48b8041-eaaa-4d40-ba81-a290846495c2
END:VEVENT
END:VCALENDAR
